BEGIN:VCALENDAR
VERSION:2.0
PRODID:-//Discover Saluda, NC - ECPv6.15.14//NONSGML v1.0//EN
CALSCALE:GREGORIAN
METHOD:PUBLISH
X-WR-CALNAME:Discover Saluda, NC
X-ORIGINAL-URL:https://saluda.com
X-WR-CALDESC:Events for Discover Saluda, NC
REFRESH-INTERVAL;VALUE=DURATION:PT1H
X-Robots-Tag:noindex
X-PUBLISHED-TTL:PT1H
BEGIN:VTIMEZONE
TZID:America/New_York
BEGIN:DAYLIGHT
TZOFFSETFROM:-0500
TZOFFSETTO:-0400
TZNAME:EDT
DTSTART:20250309T070000
END:DAYLIGHT
BEGIN:STANDARD
TZOFFSETFROM:-0400
TZOFFSETTO:-0500
TZNAME:EST
DTSTART:20251102T060000
END:STANDARD
BEGIN:DAYLIGHT
TZOFFSETFROM:-0500
TZOFFSETTO:-0400
TZNAME:EDT
DTSTART:20260308T070000
END:DAYLIGHT
BEGIN:STANDARD
TZOFFSETFROM:-0400
TZOFFSETTO:-0500
TZNAME:EST
DTSTART:20261101T060000
END:STANDARD
BEGIN:DAYLIGHT
TZOFFSETFROM:-0500
TZOFFSETTO:-0400
TZNAME:EDT
DTSTART:20270314T070000
END:DAYLIGHT
BEGIN:STANDARD
TZOFFSETFROM:-0400
TZOFFSETTO:-0500
TZNAME:EST
DTSTART:20271107T060000
END:STANDARD
END:VTIMEZONE
BEGIN:VEVENT
DTSTART;TZID=America/New_York:20260523T190000
DTEND;TZID=America/New_York:20260523T220000
DTSTAMP:20260419T184726
CREATED:20260412T113340Z
LAST-MODIFIED:20260412T113340Z
UID:76310-1779562800-1779573600@saluda.com
SUMMARY:Dogday Bluejay
DESCRIPTION:Dogday Bluejay is a low-key acoustic trio based in Greenville\, SC\, playing originals and singer-songwriter type favorites of Dylan\, Kristofferson\, Parsons\, Willie\, Waylon\, Clapton\, Shaver and many others. Acoustic guitars\, standup bass\, mandolin and Dobro create pleasant music by these long-time local musicians. Band members include Joanie Sanders on bass/vocals; Mark McAfee on guitar/vocals; and Matt Purintan on mandolin/vocals.
URL:https://saluda.com/event/dogday-bluejay/
LOCATION:Green River Eddy’s Taproom\, 435 Main St.\, Saluda\, NC\, 28773
CATEGORIES:Music
ATTACH;FMTTYPE=image/png:https://saluda.com/wp-content/uploads/2026/04/LOGO-3-pc-circle-modified_2025.png
END:VEVENT
END:VCALENDAR