BEGIN:VCALENDAR
VERSION:2.0
PRODID:-//Discover Saluda, NC - ECPv6.15.14//NONSGML v1.0//EN
CALSCALE:GREGORIAN
METHOD:PUBLISH
X-WR-CALNAME:Discover Saluda, NC
X-ORIGINAL-URL:https://saluda.com
X-WR-CALDESC:Events for Discover Saluda, NC
REFRESH-INTERVAL;VALUE=DURATION:PT1H
X-Robots-Tag:noindex
X-PUBLISHED-TTL:PT1H
BEGIN:VTIMEZONE
TZID:America/New_York
BEGIN:DAYLIGHT
TZOFFSETFROM:-0500
TZOFFSETTO:-0400
TZNAME:EDT
DTSTART:20250309T070000
END:DAYLIGHT
BEGIN:STANDARD
TZOFFSETFROM:-0400
TZOFFSETTO:-0500
TZNAME:EST
DTSTART:20251102T060000
END:STANDARD
BEGIN:DAYLIGHT
TZOFFSETFROM:-0500
TZOFFSETTO:-0400
TZNAME:EDT
DTSTART:20260308T070000
END:DAYLIGHT
BEGIN:STANDARD
TZOFFSETFROM:-0400
TZOFFSETTO:-0500
TZNAME:EST
DTSTART:20261101T060000
END:STANDARD
BEGIN:DAYLIGHT
TZOFFSETFROM:-0500
TZOFFSETTO:-0400
TZNAME:EDT
DTSTART:20270314T070000
END:DAYLIGHT
BEGIN:STANDARD
TZOFFSETFROM:-0400
TZOFFSETTO:-0500
TZNAME:EST
DTSTART:20271107T060000
END:STANDARD
END:VTIMEZONE
BEGIN:VEVENT
DTSTART;TZID=America/New_York:20260530T190000
DTEND;TZID=America/New_York:20260530T220000
DTSTAMP:20260419T184733
CREATED:20260412T113327Z
LAST-MODIFIED:20260412T113327Z
UID:76320-1780167600-1780178400@saluda.com
SUMMARY:JackTown Ramblers
DESCRIPTION:JackTown Ramblers is a primarily bluegrass and string band that combines an eclectic performance with some swing and gypsy jazz arrangements. As one of the region’s most popular bluegrass bands\, the Ramblers are known for their powerful instrumentation and vocals. Their shows include a lot of laughs. Don’t miss Gabriel Wiseman\, Shannon Leasure\, Brett Setzer and Mike Street and if you are lucky\, the JTR autograph van.
URL:https://saluda.com/event/jacktown-ramblers/
LOCATION:Green River Eddy’s Taproom\, 435 Main St.\, Saluda\, NC\, 28773
CATEGORIES:Music
ATTACH;FMTTYPE=image/jpeg:https://saluda.com/wp-content/uploads/2026/04/JackTown-Ramblers-_resized.jpg
END:VEVENT
END:VCALENDAR