BEGIN:VCALENDAR
VERSION:2.0
PRODID:-//Discover Saluda, NC - ECPv6.15.14//NONSGML v1.0//EN
CALSCALE:GREGORIAN
METHOD:PUBLISH
X-WR-CALNAME:Discover Saluda, NC
X-ORIGINAL-URL:https://saluda.com
X-WR-CALDESC:Events for Discover Saluda, NC
REFRESH-INTERVAL;VALUE=DURATION:PT1H
X-Robots-Tag:noindex
X-PUBLISHED-TTL:PT1H
BEGIN:VTIMEZONE
TZID:America/New_York
BEGIN:DAYLIGHT
TZOFFSETFROM:-0500
TZOFFSETTO:-0400
TZNAME:EDT
DTSTART:20250309T070000
END:DAYLIGHT
BEGIN:STANDARD
TZOFFSETFROM:-0400
TZOFFSETTO:-0500
TZNAME:EST
DTSTART:20251102T060000
END:STANDARD
BEGIN:DAYLIGHT
TZOFFSETFROM:-0500
TZOFFSETTO:-0400
TZNAME:EDT
DTSTART:20260308T070000
END:DAYLIGHT
BEGIN:STANDARD
TZOFFSETFROM:-0400
TZOFFSETTO:-0500
TZNAME:EST
DTSTART:20261101T060000
END:STANDARD
BEGIN:DAYLIGHT
TZOFFSETFROM:-0500
TZOFFSETTO:-0400
TZNAME:EDT
DTSTART:20270314T070000
END:DAYLIGHT
BEGIN:STANDARD
TZOFFSETFROM:-0400
TZOFFSETTO:-0500
TZNAME:EST
DTSTART:20271107T060000
END:STANDARD
END:VTIMEZONE
BEGIN:VEVENT
DTSTART;TZID=America/New_York:20260508T190000
DTEND;TZID=America/New_York:20260508T220000
DTSTAMP:20260423T045143
CREATED:20260412T113346Z
LAST-MODIFIED:20260412T143906Z
UID:76277-1778266800-1778277600@saluda.com
SUMMARY:Rick Hornyak & The Highway Companions
DESCRIPTION:Rick Hornyak & The Highway Companions is an Americana band based out of Asheville but featuring WNC musicians from around the area. Band leader is Rick Hornyak\, a talented singer/songwriter with a list of original tunes and two albums. In addition to sharing his originals\, the band runs down a list of some 30 popular cover songs from Americana and classic rock greats like Tom Petty\, Steve Miller\, The Beatles and even Chuck Berry.
URL:https://saluda.com/event/rick-hornyak-the-highway-companions/
LOCATION:Green River Eddy’s Taproom\, 435 Main St.\, Saluda\, NC\, 28773
CATEGORIES:Food,Music
ATTACH;FMTTYPE=image/jpeg:https://saluda.com/wp-content/uploads/2026/04/Rick-Hornyak-1.jpg
END:VEVENT
END:VCALENDAR